BEGIN:VCALENDAR
VERSION:2.0
PRODID:-//CNECJ - ECPv6.15.20//NONSGML v1.0//EN
CALSCALE:GREGORIAN
METHOD:PUBLISH
X-WR-CALNAME:CNECJ
X-ORIGINAL-URL:https://cnecj-formation.fr
X-WR-CALDESC:Évènements pour CNECJ
REFRESH-INTERVAL;VALUE=DURATION:PT1H
X-Robots-Tag:noindex
X-PUBLISHED-TTL:PT1H
BEGIN:VTIMEZONE
TZID:Europe/Paris
BEGIN:DAYLIGHT
TZOFFSETFROM:+0100
TZOFFSETTO:+0200
TZNAME:CEST
DTSTART:20240331T010000
END:DAYLIGHT
BEGIN:STANDARD
TZOFFSETFROM:+0200
TZOFFSETTO:+0100
TZNAME:CET
DTSTART:20241027T010000
END:STANDARD
BEGIN:DAYLIGHT
TZOFFSETFROM:+0100
TZOFFSETTO:+0200
TZNAME:CEST
DTSTART:20250330T010000
END:DAYLIGHT
BEGIN:STANDARD
TZOFFSETFROM:+0200
TZOFFSETTO:+0100
TZNAME:CET
DTSTART:20251026T010000
END:STANDARD
BEGIN:DAYLIGHT
TZOFFSETFROM:+0100
TZOFFSETTO:+0200
TZNAME:CEST
DTSTART:20260329T010000
END:DAYLIGHT
BEGIN:STANDARD
TZOFFSETFROM:+0200
TZOFFSETTO:+0100
TZNAME:CET
DTSTART:20261025T010000
END:STANDARD
END:VTIMEZONE
BEGIN:VEVENT
DTSTART;TZID=Europe/Paris:20251016T140000
DTEND;TZID=Europe/Paris:20251016T173000
DTSTAMP:20260424T154222
CREATED:20250618T121841Z
LAST-MODIFIED:20250925T081649Z
UID:10000259-1760623200-1760635800@cnecj-formation.fr
SUMMARY:L’arbitrage - Congrès Strasbourg
DESCRIPTION:DUREE : 3\,5 heures \nPUBLIC CONCERNE : \nCe stage s’adresse aux experts-comptables de justice mais également aux avocats et aux notaires qui\, dans le cadre de leur activité\, sont amenés à être arbitre ou à participer à un arbitrage. \nSi vous êtes en situation de handicap\, nous vous remercions de nous contacter afin qu’on puisse nous assurer que les moyens de la prestation de formation peuvent être adaptés à vos besoins spécifiques\, à l’adresse mail contact@cnecj-formation.fr \nOBJECTIFS OPERATIONNELS: \nA l’issue de cette formation\, vous serez capable de conduire un arbitrage. \nDonner les outils aux participants pour procéder à un arbitrage : exemples de clauses compromissoires\, d’actes de mission\, d’ordonnances\, de sentences arbitrales ; traiter les incidents de procédure. \nPREREQUIS : \nCette formation ne nécessite aucun prérequis \nPROGRAMME: \nRespecter la procédure de l’arbitrage définie par le code de l’arbitrage (projet). \nSommaire de la formation : \nL’arbitrage (code de l’arbitrage) : \n. la convention d’arbitrage \n. le choix des arbitres\, le tribunal arbitral \n. la procédure de l’arbitrage  \n. l’acte de mission \n. la rémunération des arbitres \n. la sentence arbitrale \nMETHODES ET MOYENS PEDAGOGIQUES: \n\nAlternance d’éléments théoriques et de mises en situation\nÉchanges entre les participants et avec le formateur\, sur la base de son retour d’expériences\nRessources pédagogiques à disposition en amont et à l’issue de la formation (support de formation\, vidéos\, fiches outils)\n\nCette formation est exclusivement dispensée en petit groupe pour garantir une pédagogie expositive et interactive mais également le maximum de partage lors de cette formation. Les exposés théoriques sont complétés par des cas vécus. \nLa formation fait l’objet d’une évaluation sous la forme d’un quiz d’évaluation des connaissances \nLES FORMATEURS : \nBruno DUPONCHELLE\, diplômé de l’Ecole supérieure de commerce de Lille\, expert-comptable diplômé\, expert honoraire agréé par la Cour de cassation\, expert près la cour administrative d’appel de Douai \nTARIFS :  \nMembre : 200€ HT \nFormulaire à compléter pour nous préciser vos attentes sur la formation: \nhttps://forms.gle/fTQhHigfs43RTCr36 \nL’inscription se fait via le site du Congrès: www.cnecj2025.com 
URL:https://cnecj-formation.fr/event/larbitrage-congres-strasbourg/
LOCATION:Hotel Mariott\, 4-6 Bd de Dresde\, Strasbourg\, 67000\, France
CATEGORIES:Formations
END:VEVENT
BEGIN:VEVENT
DTSTART;TZID=Europe/Paris:20251016T090000
DTEND;TZID=Europe/Paris:20251018T170000
DTSTAMP:20260424T154222
CREATED:20250402T164448Z
LAST-MODIFIED:20250402T164448Z
UID:10000254-1760605200-1760806800@cnecj-formation.fr
SUMMARY:63ème Congrès de la CNECJ
DESCRIPTION:Le 63ème Congrès de la CNECJ se tiendra les 16\, 17 et 18 octobre 2025 à Strasbourg. \n \nInscriptions et plus d’informations: A venir \n  \n 
URL:https://cnecj-formation.fr/event/63eme-congres-de-la-cnecj/
LOCATION:Hotel Mariott\, 4-6 Bd de Dresde\, Strasbourg\, 67000\, France
CATEGORIES:Evenements
END:VEVENT
END:VCALENDAR